BEGIN:VCALENDAR
VERSION:2.0
PRODID:-//ENOTNOST - ECPv6.0.13.1//NONSGML v1.0//EN
CALSCALE:GREGORIAN
METHOD:PUBLISH
X-WR-CALNAME:ENOTNOST
X-ORIGINAL-URL:https://enotnost.si
X-WR-CALDESC:Events for ENOTNOST
REFRESH-INTERVAL;VALUE=DURATION:PT1H
X-Robots-Tag:noindex
X-PUBLISHED-TTL:PT1H
BEGIN:VTIMEZONE
TZID:Europe/Paris
BEGIN:DAYLIGHT
TZOFFSETFROM:+0100
TZOFFSETTO:+0200
TZNAME:CEST
DTSTART:20200329T010000
END:DAYLIGHT
BEGIN:STANDARD
TZOFFSETFROM:+0200
TZOFFSETTO:+0100
TZNAME:CET
DTSTART:20201025T010000
END:STANDARD
END:VTIMEZONE
BEGIN:VEVENT
DTSTART;TZID=Europe/Paris:20201202T200000
DTEND;TZID=Europe/Paris:20201202T200000
DTSTAMP:20260423T002359
CREATED:20201119T110242Z
LAST-MODIFIED:20201119T110539Z
UID:2987-1606939200-1606939200@enotnost.si
SUMMARY:14. krog PLTS: Olimpija - Maribor
DESCRIPTION:
URL:https://enotnost.si/event/14-krog-plts-olimpija-maribor/
LOCATION:Stadion Stožice\, Vojkova 100\, Ljubljana\, Slovenija
CATEGORIES:Nogomet
END:VEVENT
END:VCALENDAR